BEGIN:VCALENDAR
VERSION:2.0
PRODID:-//Tukios.com/
BEGIN:VEVENT
UID:4f5a4769-1440-46a9-bc35-3a515d671b15@www.prairieviewchapel.com
DTSTAMP:20260420T043720Z
DTSTART:20260422T200000Z
DTEND:20260422T220000Z
SUMMARY:Visitation
DESCRIPTION:
URL:https://www.prairieviewchapel.com/obituaries/delle-shumlanski
LOCATION:Prairie View Chapel Highway 11 South at Prairie View Road  
	Saskatoon SK S7K 2K8
GEO:52.0129037;-106.5735451
END:VEVENT
END:VCALENDAR