BEGIN:VCALENDAR
VERSION:2.0
PRODID:-//Tukios.com/
BEGIN:VEVENT
UID:7903dfd9-64f5-41f6-938e-0cc15c4b6877@www.prairieviewchapel.com
DTSTAMP:20260420T213415Z
DTSTART:20260515T190000Z
DTEND:20260515T200000Z
SUMMARY:Celebration of Life
DESCRIPTION:
URL:https://www.prairieviewchapel.com/obituaries/fredrick-kolbert
LOCATION:Park Town Hotel 924 Spadina Crescent East  Saskatoon SK S7K 3H5
GEO:52.1313871;-106.6529378
END:VEVENT
END:VCALENDAR